BEGIN:VCALENDAR
VERSION:2.0
PRODID:-//BAS PAARDEKOOPER - ECPv6.15.20//NONSGML v1.0//EN
CALSCALE:GREGORIAN
METHOD:PUBLISH
X-WR-CALNAME:BAS PAARDEKOOPER
X-ORIGINAL-URL:https://www.baspaardekooper.com
X-WR-CALDESC:Evenementen voor BAS PAARDEKOOPER
REFRESH-INTERVAL;VALUE=DURATION:PT1H
X-Robots-Tag:noindex
X-PUBLISHED-TTL:PT1H
BEGIN:VTIMEZONE
TZID:UTC
BEGIN:STANDARD
TZOFFSETFROM:+0000
TZOFFSETTO:+0000
TZNAME:UTC
DTSTART:20240101T000000
END:STANDARD
END:VTIMEZONE
BEGIN:VEVENT
DTSTART;TZID=UTC:20251129T140000
DTEND;TZID=UTC:20251129T233000
DTSTAMP:20260419T124912
CREATED:20250208T112006Z
LAST-MODIFIED:20250208T112006Z
UID:1531-1764424800-1764459000@www.baspaardekooper.com
SUMMARY:Blueskroegentocht Wijk bij Duurstede
DESCRIPTION:Zaterdag 29  november organiseren Stichting BluesinWijk\, theater Calypso en horeca voor de 13e keer de inmiddels traditionele Wijkse Blueskroegentocht. Al vanaf de eerste editie \nNadere gegevens volgen
URL:https://www.baspaardekooper.com/event/blueskroegentocht-wijk-bij-duurstede/
LOCATION:Theater Calypso\, Markt 4
ATTACH;FMTTYPE=image/jpeg:https://www.baspaardekooper.com/wp-content/uploads/2025/02/blues-kroegentocht-wijk-bij-duurstede.jpeg
END:VEVENT
END:VCALENDAR